Workbook
Name Excel_BuiltIn__FilterDatabase_8: #REF!

Sheet Grade of Compliance Range
B1: RFT/RFQ Scoring Sheet | J1: Reference Number | L1: SF-CF-87
J2: Owner | L2: PRO/PMO
J3: Revision Code | L3: 6.0
J4: Implementation Date | L4: 45901
A8: 2 : Fully compliant
A9: 1 : Partially compliant
A10: 0 : Not compliant
A11: K : Disqualification
A14: * For Requirements defined as ''Killer'', a ‘’Fully Compliant’’ score should be the sole acceptable outcome. Failing to obtain a ‘’Fully Compliant’’ score on the requirements defined as Killers, will mandate immediate disqualification for bidders.

Sheet Technical Calculation
B1: RFT/RFQ Scoring Sheet | O1: Reference Number | Q1: SF-CF-87
O2: Owner | Q2: PRO/PMO
O3: Revision Code | Q3: 6.0
O4: Implementation Date | Q4: 45901
A6: Project Name | B6: Clip Alert & VIP Services Replacement
A8: Article | B8: Mandatory Requirements | C8: Weight / 100 | D8: Supplier 1 | E8: Supplier 2 | F8: Supplier 3 | G8: Supplier 4 | H8: Supplier 5 | I8: Supplier 6 | J8: Supplier 7 | K8: Remarks | L8: Supplier 1 Final | M8: Supplier 2 Final | N8: Supplier 3 Final | O8: Supplier 4 Final | P8: Supplier 5 Final | Q8: Supplier 6 Final | R8: Supplier 7 Final
A9: 1 | B9: ='Technical Scoring'!B12 -> General Requirements | C9: 20 | D9: ='Technical Scoring'!F835 -> 0 | E9: ='Technical Scoring'!G835 -> 0 | F9: ='Technical Scoring'!H835 -> 0 | G9: ='Technical Scoring'!I835 -> 0 | H9: ='Technical Scoring'!J835 -> 0 | I9: ='Technical Scoring'!K835 -> 0 | J9: ='Technical Scoring'!L835 -> 0 | L9: =D9*C9/100 -> 0 | M9: =E9*C9/100 -> 0 | N9: =F9*C9/100 -> 0 | O9: =G9*C9/100 -> 0 | P9: =H9*C9/100 -> 0 | Q9: =I9*C9/100 -> 0 | R9: =J9*C9/100 -> 0
A10: 2 | B10: ='Technical Scoring'!B103 -> Technical Requirements | C10: 10 | D10: ='Technical Scoring'!F842 -> 0 | E10: ='Technical Scoring'!G842 -> 0 | F10: ='Technical Scoring'!H842 -> 0 | G10: ='Technical Scoring'!I842 -> 0 | H10: ='Technical Scoring'!J842 -> 0 | I10: ='Technical Scoring'!K842 -> 0 | J10: ='Technical Scoring'!L842 -> 0 | L10: =D10*C10/100 -> 0 | M10: =E10*C10/100 -> 0 | N10: =F10*C10/100 -> 0 | O10: =G10*C10/100 -> 0 | P10: =H10*C10/100 -> 0 | Q10: =I10*C10/100 -> 0 | R10: =J10*C10/100 -> 0
A11: 3 | B11: ='Technical Scoring'!B168 -> Services Requirements | C11: 30 | D11: ='Technical Scoring'!F845 -> 0 | E11: ='Technical Scoring'!G845 -> 0 | F11: ='Technical Scoring'!H845 -> 0 | G11: ='Technical Scoring'!I845 -> 0 | H11: ='Technical Scoring'!J845 -> 0 | I11: ='Technical Scoring'!K845 -> 0 | J11: ='Technical Scoring'!L845 -> 0 | L11: =D11*C11/100 -> 0 | M11: =E11*C11/100 -> 0 | N11: =F11*C11/100 -> 0 | O11: =G11*C11/100 -> 0 | P11: =H11*C11/100 -> 0 | Q11: =I11*C11/100 -> 0 | R11: =J11*C11/100 -> 0
A12: 4 | B12: ='Technical Scoring'!B357 -> Security Requirements | C12: 5 | D12: ='Technical Scoring'!F848 -> 0 | E12: ='Technical Scoring'!G848 -> 0 | F12: ='Technical Scoring'!H848 -> 0 | G12: ='Technical Scoring'!I848 -> 0 | H12: ='Technical Scoring'!J848 -> 0 | I12: ='Technical Scoring'!K848 -> 0 | J12: ='Technical Scoring'!L848 -> 0 | L12: =D12*C12/100 -> 0 | M12: =E12*C12/100 -> 0 | N12: =F12*C12/100 -> 0 | O12: =G12*C12/100 -> 0 | P12: =H12*C12/100 -> 0 | Q12: =I12*C12/100 -> 0 | R12: =J12*C12/100 -> 0
A13: 5 | B13: ='Technical Scoring'!B413 -> Servers, Storage & Backup Requirements | C13: 10 | D13: ='Technical Scoring'!F851 -> 0 | E13: ='Technical Scoring'!G851 -> 0 | F13: ='Technical Scoring'!H851 -> 0 | G13: ='Technical Scoring'!I851 -> 0 | H13: ='Technical Scoring'!J851 -> 0 | I13: ='Technical Scoring'!K851 -> 0 | J13: ='Technical Scoring'!L851 -> 0 | L13: =D13*C13/100 -> 0 | M13: =E13*C13/100 -> 0 | N13: =F13*C13/100 -> 0 | O13: =G13*C13/100 -> 0 | P13: =H13*C13/100 -> 0 | Q13: =I13*C13/100 -> 0 | R13: =J13*C13/100 -> 0
A14: 6 | B14: ='Technical Scoring'!B494 -> DB Requirements | C14: 3 | D14: ='Technical Scoring'!F854 -> 0 | E14: ='Technical Scoring'!G854 -> 0 | F14: ='Technical Scoring'!H854 -> 0 | G14: ='Technical Scoring'!I854 -> 0 | H14: ='Technical Scoring'!J854 -> 0 | I14: ='Technical Scoring'!K854 -> 0 | J14: ='Technical Scoring'!L854 -> 0 | L14: =D14*C14/100 -> 0 | M14: =E14*C14/100 -> 0 | N14: =F14*C14/100 -> 0 | O14: =G14*C14/100 -> 0 | P14: =H14*C14/100 -> 0 | Q14: =I14*C14/100 -> 0 | R14: =J14*C14/100 -> 0
A15: 7 | B15: ='Technical Scoring'!B549 -> Statistics Requirements | C15: 3 | D15: ='Technical Scoring'!F857 -> 0 | E15: ='Technical Scoring'!G857 -> 0 | F15: ='Technical Scoring'!H857 -> 0 | G15: ='Technical Scoring'!I857 -> 0 | H15: ='Technical Scoring'!J857 -> 0 | I15: ='Technical Scoring'!K857 -> 0 | J15: ='Technical Scoring'!L857 -> 0 | L15: =D15*C15/100 -> 0 | M15: =E15*C15/100 -> 0 | N15: =F15*C15/100 -> 0 | O15: =G15*C15/100 -> 0 | P15: =H15*C15/100 -> 0 | Q15: =I15*C15/100 -> 0 | R15: =J15*C15/100 -> 0
A16: 8 | B16: ='Technical Scoring'!B582 -> Billing Requirements | C16: 5 | D16: ='Technical Scoring'!F860 -> 0 | E16: ='Technical Scoring'!G860 -> 0 | F16: ='Technical Scoring'!H860 -> 0 | G16: ='Technical Scoring'!I860 -> 0 | H16: ='Technical Scoring'!J860 -> 0 | I16: ='Technical Scoring'!K860 -> 0 | J16: ='Technical Scoring'!L860 -> 0 | L16: =D16*C16/100 -> 0 | M16: =E16*C16/100 -> 0 | N16: =F16*C16/100 -> 0 | O16: =G16*C16/100 -> 0 | P16: =H16*C16/100 -> 0 | Q16: =I16*C16/100 -> 0 | R16: =J16*C16/100 -> 0
A17: 9 | B17: ='Technical Scoring'!B612 -> O&M Requirements | C17: 5 | D17: ='Technical Scoring'!F863 -> 0 | E17: ='Technical Scoring'!G863 -> 0 | F17: ='Technical Scoring'!H863 -> 0 | G17: ='Technical Scoring'!I863 -> 0 | H17: ='Technical Scoring'!J863 -> 0 | I17: ='Technical Scoring'!K863 -> 0 | J17: ='Technical Scoring'!L863 -> 0 | L17: =D17*C17/100 -> 0 | M17: =E17*C17/100 -> 0 | N17: =F17*C17/100 -> 0 | O17: =G17*C17/100 -> 0 | P17: =H17*C17/100 -> 0 | Q17: =I17*C17/100 -> 0 | R17: =J17*C17/100 -> 0
A18: 10 | B18: ='Technical Scoring'!B773 -> Electrical Requirements | C18: 2 | D18: ='Technical Scoring'!F866 -> 0 | E18: ='Technical Scoring'!G866 -> 0 | F18: ='Technical Scoring'!H866 -> 0 | G18: ='Technical Scoring'!I866 -> 0 | H18: ='Technical Scoring'!J866 -> 0 | I18: ='Technical Scoring'!K866 -> 0 | J18: ='Technical Scoring'!L866 -> 0 | L18: =D18*C18/100 -> 0 | M18: =E18*C18/100 -> 0 | N18: =F18*C18/100 -> 0 | O18: =G18*C18/100 -> 0 | P18: =H18*C18/100 -> 0 | Q18: =I18*C18/100 -> 0 | R18: =J18*C18/100 -> 0
A19: 11 | B19: ='Technical Scoring'!B783 -> Information Analytics Requirements | C19: 4 | D19: ='Technical Scoring'!F869 -> 0 | E19: ='Technical Scoring'!G869 -> 0 | F19: ='Technical Scoring'!H869 -> 0 | G19: ='Technical Scoring'!I869 -> 0 | H19: ='Technical Scoring'!J869 -> 0 | I19: ='Technical Scoring'!K869 -> 0 | J19: ='Technical Scoring'!L869 -> 0 | L19: =D19*C19/100 -> 0 | M19: =E19*C19/100 -> 0 | N19: =F19*C19/100 -> 0 | O19: =G19*C19/100 -> 0 | P19: =H19*C19/100 -> 0 | Q19: =I19*C19/100 -> 0 | R19: =J19*C19/100 -> 0
A20: 12 | B20: ='Technical Scoring'!B811 -> Network Infrastructure Requirements | C20: 2 | D20: ='Technical Scoring'!F872 -> 0 | E20: ='Technical Scoring'!G872 -> 0 | F20: ='Technical Scoring'!H872 -> 0 | G20: ='Technical Scoring'!I872 -> 0 | H20: ='Technical Scoring'!J872 -> 0 | I20: ='Technical Scoring'!K872 -> 0 | J20: ='Technical Scoring'!L872 -> 0 | L20: =D20*C20/100 -> 0 | M20: =E20*C20/100 -> 0 | N20: =F20*C20/100 -> 0 | O20: =G20*C20/100 -> 0 | P20: =H20*C20/100 -> 0 | Q20: =I20*C20/100 -> 0 | R20: =J20*C20/100 -> 0
A21: 13 | B21: ='Technical Scoring'!B818 -> Network Management System Requirements | C21: 1 | D21: ='Technical Scoring'!F875 -> 0 | E21: ='Technical Scoring'!G875 -> 0 | F21: ='Technical Scoring'!H875 -> 0 | G21: ='Technical Scoring'!I875 -> 0 | H21: ='Technical Scoring'!J875 -> 0 | I21: ='Technical Scoring'!K875 -> 0 | J21: ='Technical Scoring'!L875 -> 0 | L21: =D21*C21/100 -> 0 | M21: =E21*C21/100 -> 0 | N21: =F21*C21/100 -> 0 | O21: =G21*C21/100 -> 0 | P21: =H21*C21/100 -> 0 | Q21: =I21*C21/100 -> 0 | R21: =J21*C21/100 -> 0
C22: =SUM(C9:C21) -> 100 | L22: =SUM(L9:L21) -> 0 | M22: =SUM(M9:M21) -> 0 | N22: =SUM(N9:N21) -> 0 | O22: =SUM(O9:O21) -> 0 | P22: =SUM(P9:P21) -> 0 | Q22: =SUM(Q9:Q21) -> 0 | R22: =SUM(R9:R21) -> 0
L23: SUPPLIER 1 SCORE | M23: SUPPLIER 2 SCORE | N23: SUPPLIER 3 SCORE | O23: SUPPLIER 4 SCORE | P23: SUPPLIER 5 SCORE | Q23: SUPPLIER 6 SCORE | R23: SUPPLIER 7 SCORE
A30: * For Requirements defined as ''Killer'', a ‘’Fully Compliant’’ score should be the sole acceptable outcome. Failing to obtain a ‘’Fully Compliant’’ score on the requirements defined as Killers, will mandate immediate disqualification for bidders.

Sheet Technical Scoring
B1: RFT/RFQ Scoring Sheet | I1: Reference Number | K1: SF-CF-87
I2: Owner | K2: PRO/PMO
I3: Revision Code | K3: 6.0
I4: Implementation Date | K4: 45901
A6: Project Name | B6: Clip Alert & VIP Services Replacement
B8: For each requirement where the Bidder declares compliance, the Bidder must provide corresponding evidence and supporting documentation. Such evidence shall clearly reference the specific document, section, page, and paragraph demonstrating compliance. Any requirement marked as compliant without adequate supporting evidence and clear references may be considered non-compliant at the discretion of MIC1.
B9: Wherever MIC1 explicitly requests a separate quotation for a specific item, capacity expansion, license, hardware component, interface, or any other requirement, the Bidder shall provide a separate and clearly identified price in the BOQ. In case no separate quotation is provided for an explicitly requested item, MIC1 will consider that such item is already included in the Bidder's basic offer and/or in the proposed solution and shall be provided at no additional cost. The Bidder shall clearly identify any exceptions, exclusions, or additional costs associated with the proposed solution. Any item not explicitly identified as an exception or separately chargeable shall be considered included in the basic offer.
A11: Article | B11: Requirements | C11: Weight | D11: Killer | E11: Responsible entity / entities | F11: Supplier 1 | G11: Supplier 2 | H11: Supplier 3 | I11: Supplier 4 | J11: Supplier 5 | K11: Supplier 6 | L11: Supplier 7
A12: 1 | B12: General Requirements
A13: 1.1 | B13: Common Requirements
A14: 1.1.1 | B14: The bidder shall provide an executive summary of the key technical, service and commercial issues related to the project. | C14: 75 | D14: No | E14: Network Services
A15: 1.1.2 | B15: The bidder shall provide a Technical, Business and environmental product specifications for the proposed platform | C15: 75 | D15: No | E15: Network Services
A16: 1.1.3 | B16: The bidder shall provide a Data flow matrix for each interface on the proposed solution. | C16: 75 | D16: No | E16: Network Services
A17: 1.1.4 | B17: A user manual for all the tools delivered by the bidder shall be delivered. | C17: 75 | D17: No | E17: Network Services
A18: 1.1.5 | B18: High Level Design: the bidder shall provide a detailed HLD document explaining: - The logical, functional and physical architecture of the solution - Each module with diagrams - Describing of the solution and the included features - Presenting the physical description - Any other issue… | C18: 75 | D18: No | E18: Network Services
A19: 1.1.6 | B19: Low Level Design: The bidder shall deliver a Low Level Design for the solution and details on all the interfaces and how it should be integrated into MIC1’s networks. Including architecture diagrams. | C19: 100 | D19: No | E19: Network Services
A20: 1.1.7 | B20: User Manual: the bidder shall provide a detailed and complete user manual for the solution (Including all the modules and tools delivered with the solution). The user manual shall contain detailed description for all the parameters and configurations that could be done on the proposed solution and for all the provided features. | C20: 100 | D20: No | E20: Network Services
A21: 1.1.8 | B21: The bidder shall provide a detailed description for each feature provided within the proposed solution. | C21: 100 | D21: No | E21: Network Services
A22: 1.1.9 | B22: The bidder shall provide a detailed project implementation plan for the proposed solution. | C22: 100 | D22: No | E22: Network Services
A23: 1.1.10 | B23: The bidder shall describe the methodology applied while providing a detailed responsibility matrix | C23: 100 | D23: No | E23: Network Services
A24: 1.1.11 | B24: The bidder shall describe the migration strategy applied while noting that MIC1's preference is to have a phased approach (2 or 3 phases), | C24: 100 | D24: No | E24: Network Services
A25: 1.1.12 | B25: The bidder shall describe the problem resolution and escalation method applied during project implementation | C25: 100 | D25: No | E25: Network Services
... A29: 1.1.16 | B29: The bidder's proposed solution and planning shall provide MIC1 the possibility to go live 4 calendar months after purchase order. In case of delay in the delivery, a penalty of 1% per day of delay shall be deducted from the total amount for a maximum of 20% | C29: 100 | D29: Yes | E29: Network Services
A30: 1.2 | B30: Solution description and information
A31: 1.2.1 | B31: The bidder shall provide a high level description of the major hardware components included in the proposed platform | C31: 75 | D31: No | E31: Network Services
A32: 1.2.2 | B32: The bidder shall provide the end of support date of the proposed platform and features | C32: 100 | D32: No | E32: Network Services
A33: 1.2.3 | B33: The bidder shall describe in details the hardware architecture of the proposed platform | C33: 75 | D33: No | E33: Network Services
A34: 1.2.4 | B34: The bidder shall state the number of normal versions released per year | C34: 50 | D34: No | E34: Network Services
A35: 1.3 | B35: References
A36: 1.3.1 | B36: The bidder shall provide a customer reference list (regional and international) for the proposed platform and provided services. This list should indicate clearly which references are commercial references, contracts or current trials. The dates of commercial deployments or deployment targets for contracts should be specified. | C36: 100 | D36: No | E36: Network Services
A37: 1.3.2 | B37: The bidder shall provide additional relevant referential information (including details such as number of served subscribers, number of nodes, implemented features, etc.) regarding commercial live networks worldwide that use the proposed solution | C37: 75 | D37: No | E37: Network Services
A38: 1.3.3 | B38: The bidder shall provide details of its Research and Development Teams affected to the creation and evolution of the product and associated systems (e.g. OSS, Backup restore, ...), with particular reference to the dedicated resources (e.g. number of dedicated engineers and labs, location...) | C38: 50 | D38: No | E38: Network Services
A39: 1.3.4 | B39: The bidder shall share at least 3 Telco. mobile references, where his solution is deployed and operational, with project implementation start up date, completion date, go live date, current operational release, supported features, etc. each operator must have more than 2.5M subscribers and solution for each operator must be live from at least 5 years Bidder to provide evidence from each reference. | C39: 100 | D39: Yes | E39: Network Services
A40: 1.3.5 | B40: The bidder shall provide details about the support team skills and qualifications. | C40: 50 | D40: No | E40: Network Services
A41: 1.4 | B41: Training
A42: 1.4.1 | B42: The bidder shall provide technical trainings for MIC1's engineers. | C42: 100 | D42: Yes | E42: Network Services
A43: 1.4.2 | B43: Training activities provided by the bidder shall be supported with: • Training material • Pre-launch hands-on sessions on the deployed equipment before it is put in production use • Software simulation or remote virtual access to the Bidder lab facility (the latter is preferred) | C43: 75 | D43: No | E43: Network Services
A44: 1.4.3 | B44: Training courses shall be delivered in in English language | C44: 75 | D44: No | E44: Network Services
A45: 1.4.4 | B45: Training shall be delivered before the formal production launch of the platform and the acceptance tests. | C45: 75 | D45: No | E45: Network Services
A46: 1.4.5 | B46: Course documentation shall be distributed to all participants; electronic format for the course documentation is highly preferred by MIC1; product manuals for all products covered in the course are to be provided in electronic format. | C46: 75 | D46: No | E46: Network Services
...
